BEGIN:VCALENDAR
PRODID:-//w3.org/2002/01dc-nj/toICal.py//NONSGML v1.0/EN
VERSION:2.0
CALSCALE:GREGORIAN
BEGIN:VTIMEZONE
TZID:/softwarestudio.org/Olson_20011030_5/America/New_York
BEGIN:standard
TZOFFSETFROM:-0400
TZOFFSETTO:-0500
TZNAME:EST
DTSTART:VALUE=DATE-TIME;19701025T020000
RRULE:FREQ=YEARLY;INTERVAL=1;BYDAY=-1SU;BYMONTH=10;
END:standard
BEGIN:daylight
TZOFFSETFROM:-0500
TZOFFSETTO:-0400
TZNAME:EDT
DTSTART:VALUE=DATE-TIME;19700405T020000
RRULE:FREQ=YEARLY;INTERVAL=1;BYDAY=1SU;BYMONTH=4;
END:daylight
END:VTIMEZONE
BEGIN:VEVENT
UID:1-1appearances-cal@w3.org
DTSTART;VALUE=DATE:20040603
DTEND;VALUE=DATE:20040604
SUMMARY:Charles McCathieNevile presents "W3C and the Semantic Web" to the European
  Coordination Committee on Human Rights Documentation in Venice\, Italy. T
 he event is sponsored by Human Rights Information and Documentation System
 s (HURIDOCS).
END:VEVENT
BEGIN:VEVENT
UID:1-2appearances-cal@w3.org
DTSTART;VALUE=DATE:20040604
DTEND;VALUE=DATE:20040605
SUMMARY:Daniel Dardailler presents "W3C/WAI/Education" at DeViNT'2004 in Sophia An
 tipolis\, France. The conference is sponsored by the École Supérieure En S
 ciences Informatiques (ESSI).
END:VEVENT
BEGIN:VEVENT
UID:1-3appearances-cal@w3.org
DTSTART;VALUE=DATE:20040608
DTEND;VALUE=DATE:20040609
SUMMARY:Ivan Herman presents a "Tutorial on Basic Semantic Web Technologies (RDF\,
  OWL)" at the W3C Office for Germany and Austria in Sankt Augustin\, Germa
 ny.
END:VEVENT
BEGIN:VEVENT
UID:1-4appearances-cal@w3.org
DTSTART;VALUE=DATE:20040611
DTEND;VALUE=DATE:20040612
SUMMARY:Shadi Abou-Zahra presents "Access to the Web" at the IANIS Conference in B
 udapest\, Hungary.
END:VEVENT
BEGIN:VEVENT
UID:1-5appearances-cal@w3.org
DTSTART;VALUE=DATE:20040611
DTEND;VALUE=DATE:20040613
SUMMARY:Steve Bratt presents "Spinning Threads for the Next Generation of the Web"
  on 11 June and "Weaving a Web for the Next Generation of Science" on 12 J
 une at the 16th Annual IRIS Workshop in Tucson\, AZ\, USA.
END:VEVENT
BEGIN:VEVENT
UID:1-6appearances-cal@w3.org
DTSTART;VALUE=DATE:20040622
DTEND;VALUE=DATE:20040623
SUMMARY:Max Froumentin presents "Zakim - A Multimodal Software System for Large-Sc
 ale Teleconferencing" (PDF) at the Joint AMI/PASCAL/IM2/M4 Workshop on Mul
 timodal Interaction and Related Machine Learning Algorithms in Martigny\, 
 Switzerland. The event is sponsored by the European Commission and the Swi
 ss National Science Foundation.
END:VEVENT
BEGIN:VEVENT
UID:1-7appearances-cal@w3.org
DTSTART;VALUE=DATE:20040624
DTEND;VALUE=DATE:20040625
SUMMARY:Ivan Herman presents an "Current Developments at W3C\, and the Semantic We
 b" at the KRNet 2004 conference in Seoul\, South Korea.
END:VEVENT
BEGIN:VEVENT
UID:1-8appearances-cal@w3.org
DTSTART;VALUE=DATE:20040625
DTEND;VALUE=DATE:20040626
SUMMARY:Hugo Haas gives a talk on W3C and W3C's Web services work at Bouygues Tele
 com in Vélizy\, France.
END:VEVENT
BEGIN:VEVENT
UID:2-1appearances-cal@w3.org
DTSTART;VALUE=DATE:20040706
DTEND;VALUE=DATE:20040707
SUMMARY:Shadi Abou-Zahra\, Andrew Arch\, Sylvie Duchateau and Shawn Lawton Henry p
 resent a "Web Accessibility Best Practices Evaluation Training" in Paris\,
  France.
END:VEVENT
BEGIN:VEVENT
UID:2-2appearances-cal@w3.org
DTSTART;VALUE=DATE:20040708
DTEND;VALUE=DATE:20040709
SUMMARY:Tex Texin\, W3C Internationalization Working Group\, presents the tutorial
  "Hitchhiker's Guide to Globalization" at IWIPS 2004 in Vancouver\, B.C.\,
  Canada.
END:VEVENT
BEGIN:VEVENT
UID:3-1appearances-cal@w3.org
DTSTART;VALUE=DATE:20040805
DTEND;VALUE=DATE:20040808
SUMMARY:Daniel Weitzner presents "The Transparency Paradox: Privacy design strateg
 ies for open information networks" at the Location Privacy Workshop: Indiv
 idual Autonomy as a Driver of Design held on the Schoodic Peninsula\, Acad
 ia National Park\, Maine\, USA. The workshop is sponsored by the National 
 Center for Geographic Information and Analysis\, University of Maine.
END:VEVENT
BEGIN:VEVENT
UID:3-2appearances-cal@w3.org
DTSTART;VALUE=DATE:20040827
DTEND;VALUE=DATE:20040828
SUMMARY:Philipp Hoschka presents "Towards Multimodal Web Interaction" at the IFIP 
 World Computer Congress 2004 (WCC) Topical Day on Multimodal Interaction i
 n Toulouse\, France.
END:VEVENT
END:VCALENDAR
