BEGIN:VCALENDAR
VERSION:2.0
PRODID:-//Sabre//Sabre VObject 4.5.8//EN
CALSCALE:GREGORIAN
NAME:Mobile World Congress 2012
X-WR-CALNAME:Mobile World Congress 2012
BEGIN:VTIMEZONE
TZID:UTC
X-MICROSOFT-CDO-TZID:0
BEGIN:STANDARD
DTSTART:20110304T000000
TZOFFSETFROM:+0000
TZOFFSETTO:+0000
TZNAME:UTC
END:STANDARD
END:VTIMEZONE
BEGIN:VEVENT
UID:2fa775c6-6850-41a8-a8e3-94c413495985
DTSTAMP:20221014T114638Z
SUMMARY:Mobile World Congress 2012
DTSTART:20120227T000000Z
DTEND:20120301T235959Z
DESCRIPTION:https://www.w3.org/events/conferences/2012/mobile-world-congres
 s-2012/\n\n
STATUS:CONFIRMED
CREATED:20221014T114600Z
LAST-MODIFIED:20221014T114638Z
END:VEVENT
END:VCALENDAR
