BEGIN:VCALENDAR
VERSION:2.0
PRODID:-//Sabre//Sabre VObject 4.5.8//EN
CALSCALE:GREGORIAN
NAME:CeBIT 2014
X-WR-CALNAME:CeBIT 2014
BEGIN:VTIMEZONE
TZID:UTC
X-MICROSOFT-CDO-TZID:0
BEGIN:STANDARD
DTSTART:20130315T000000
TZOFFSETFROM:+0000
TZOFFSETTO:+0000
TZNAME:UTC
END:STANDARD
END:VTIMEZONE
BEGIN:VEVENT
UID:536de2ec-4771-4fa1-9622-c276ca4307bc
DTSTAMP:20221014T114704Z
SUMMARY:CeBIT 2014
DTSTART:20140310T000000Z
DTEND:20140314T235959Z
DESCRIPTION:https://www.w3.org/events/conferences/2014/cebit-2014/\n\n
STATUS:CONFIRMED
CREATED:20221014T114700Z
LAST-MODIFIED:20221014T114704Z
END:VEVENT
END:VCALENDAR
