BEGIN:VCALENDAR
VERSION:2.0
PRODID:-//Sabre//Sabre VObject 4.5.8//EN
CALSCALE:GREGORIAN
NAME:Mobile World Congress 2014
X-WR-CALNAME:Mobile World Congress 2014
BEGIN:VTIMEZONE
TZID:UTC
X-MICROSOFT-CDO-TZID:0
BEGIN:STANDARD
DTSTART:20130301T000000
TZOFFSETFROM:+0000
TZOFFSETTO:+0000
TZNAME:UTC
END:STANDARD
END:VTIMEZONE
BEGIN:VEVENT
UID:7a7b0aa3-504e-48f1-b18f-59a81ada219e
DTSTAMP:20221014T114704Z
SUMMARY:Mobile World Congress 2014
DTSTART:20140224T000000Z
DTEND:20140227T235959Z
DESCRIPTION:https://www.w3.org/events/conferences/2014/mobile-world-congres
 s-2014/\n\n
STATUS:CONFIRMED
CREATED:20221014T114700Z
LAST-MODIFIED:20221014T114704Z
END:VEVENT
END:VCALENDAR
