BEGIN:VCALENDAR
VERSION:2.0
PRODID:-//Sabre//Sabre VObject 4.5.8//EN
CALSCALE:GREGORIAN
NAME:Industry of Things World USA 2016
X-WR-CALNAME:Industry of Things World USA 2016
BEGIN:VTIMEZONE
TZID:UTC
X-MICROSOFT-CDO-TZID:0
BEGIN:STANDARD
DTSTART:20150302T000000
TZOFFSETFROM:+0000
TZOFFSETTO:+0000
TZNAME:UTC
END:STANDARD
END:VTIMEZONE
BEGIN:VEVENT
UID:2690629b-8dc1-49ed-a01b-6036f2be48e4
DTSTAMP:20221014T114720Z
SUMMARY:Industry of Things World USA 2016
DTSTART:20160225T000000Z
DTEND:20160226T235959Z
DESCRIPTION:https://www.w3.org/events/conferences/2016/industry-of-things-w
 orld-usa-2016/\n\n
STATUS:CONFIRMED
CREATED:20221014T114700Z
LAST-MODIFIED:20221014T114720Z
END:VEVENT
END:VCALENDAR
