BEGIN:VCALENDAR
VERSION:2.0
PRODID:-//Sabre//Sabre VObject 4.5.8//EN
CALSCALE:GREGORIAN
NAME:2026 Web Engines Hackfest
X-WR-CALNAME:2026 Web Engines Hackfest
BEGIN:VTIMEZONE
TZID:Europe/Madrid
BEGIN:STANDARD
DTSTART:20251026T010000
TZOFFSETFROM:+0200
TZOFFSETTO:+0100
TZNAME:CET
END:STANDARD
BEGIN:STANDARD
DTSTART:20261025T010000
TZOFFSETFROM:+0200
TZOFFSETTO:+0100
TZNAME:CET
END:STANDARD
BEGIN:DAYLIGHT
DTSTART:20260329T010000
TZOFFSETFROM:+0100
TZOFFSETTO:+0200
TZNAME:CEST
END:DAYLIGHT
END:VTIMEZONE
BEGIN:VEVENT
UID:12fc9ade-1254-42fc-ab57-a4f84dca0d58
DTSTAMP:20260415T110814Z
SUMMARY:2026 Web Engines Hackfest
DTSTART;TZID=Europe/Madrid:20260615T090000
DTEND;TZID=Europe/Madrid:20260617T180000
DESCRIPTION:https://www.w3.org/events/conferences/2026/2026-web-engines-hac
 kfest/\n\nYearly web platform community event for people working on the di
 fferent engines\, testing\, specifications\, web compat\, documentation.
STATUS:CONFIRMED
CREATED:20260401T184600Z
LAST-MODIFIED:20260415T110814Z
END:VEVENT
END:VCALENDAR
