BEGIN:VCALENDAR
VERSION:2.0
PRODID:-//Sabre//Sabre VObject 4.5.8//EN
CALSCALE:GREGORIAN
NAME:Device APIs and Policy Working Group
X-WR-CALNAME:Device APIs and Policy Working Group
BEGIN:VTIMEZONE
TZID:UTC
X-MICROSOFT-CDO-TZID:0
BEGIN:STANDARD
DTSTART:20090321T000000
TZOFFSETFROM:+0000
TZOFFSETTO:+0000
TZNAME:UTC
END:STANDARD
END:VTIMEZONE
BEGIN:VEVENT
UID:4c26ffaf-3ba8-41fa-a11a-6ed6b6474183
DTSTAMP:20221014T114615Z
SUMMARY:Device APIs and Policy Working Group
DTSTART:20100316T000000Z
DTEND:20100318T235959Z
DESCRIPTION:https://www.w3.org/events/happenings/2010/device-apis-and-polic
 y-working-group/\n\n
STATUS:CONFIRMED
CREATED:20221014T114600Z
LAST-MODIFIED:20221014T114615Z
END:VEVENT
END:VCALENDAR
