BEGIN:VCALENDAR
VERSION:2.0
PRODID:-//Sabre//Sabre VObject 4.5.8//EN
CALSCALE:GREGORIAN
NAME:Áttekintés a Szemantikus Webről (Overview of the Semantic Web)
X-WR-CALNAME:Áttekintés a Szemantikus Webről (Overview of the Semantic W
 eb)
BEGIN:VTIMEZONE
TZID:UTC
X-MICROSOFT-CDO-TZID:0
BEGIN:STANDARD
DTSTART:20030303T000000
TZOFFSETFROM:+0000
TZOFFSETTO:+0000
TZNAME:UTC
END:STANDARD
END:VTIMEZONE
BEGIN:VEVENT
UID:e71dbce8-248b-4d94-8573-fecd1333b451
DTSTAMP:20221212T100623Z
SUMMARY:Áttekintés a Szemantikus Webről (Overview of the Semantic Web)
DTSTART:20040226T000000Z
DTEND:20040226T000000Z
DESCRIPTION:https://www.w3.org/events/talks/2004/%C3%A1ttekint%C3%A9s-a-sze
 mantikus-webr%C5%91l/\n\nÁttekintés a Szemantikus Webről (Overview of t
 he Semantic Web)
STATUS:CONFIRMED
CREATED:20040226T000000Z
LAST-MODIFIED:20221212T100623Z
END:VEVENT
END:VCALENDAR
