BEGIN:VCALENDAR
VERSION:2.0
PRODID:-//Sabre//Sabre VObject 4.5.8//EN
CALSCALE:GREGORIAN
NAME:A W3C Perspective
X-WR-CALNAME:A W3C Perspective
BEGIN:VTIMEZONE
TZID:UTC
X-MICROSOFT-CDO-TZID:0
BEGIN:STANDARD
DTSTART:20030330T000000
TZOFFSETFROM:+0000
TZOFFSETTO:+0000
TZNAME:UTC
END:STANDARD
END:VTIMEZONE
BEGIN:VEVENT
UID:3df3ca4f-6910-4865-9546-4c39a0f034b2
DTSTAMP:20221108T153012Z
SUMMARY:A W3C Perspective
DTSTART:20040324T000000Z
DTEND:20040324T000000Z
DESCRIPTION:https://www.w3.org/events/talks/2004/a-w3c-perspective/\n\nA W3
 C Perspective
STATUS:CONFIRMED
CREATED:20040324T000000Z
LAST-MODIFIED:20221108T153012Z
END:VEVENT
END:VCALENDAR
