BEGIN:VCALENDAR
VERSION:2.0
PRODID:-//Sabre//Sabre VObject 4.5.8//EN
CALSCALE:GREGORIAN
NAME:Accessibilità e usabilità (Accessibility and usability)
X-WR-CALNAME:Accessibilità e usabilità (Accessibility and usability)
BEGIN:VTIMEZONE
TZID:UTC
X-MICROSOFT-CDO-TZID:0
BEGIN:STANDARD
DTSTART:20030408T000000
TZOFFSETFROM:+0000
TZOFFSETTO:+0000
TZNAME:UTC
END:STANDARD
END:VTIMEZONE
BEGIN:VEVENT
UID:5da77e9e-b3e4-47ea-95da-ddb7afda92f9
DTSTAMP:20221212T103232Z
SUMMARY:Accessibilità e usabilità (Accessibility and usability)
DTSTART:20040402T000000Z
DTEND:20040402T000000Z
DESCRIPTION:https://www.w3.org/events/talks/2004/accessibilit%C3%A0-e-usabi
 lit%C3%A0-2/\n\nAccessibilità e usabilità (Accessibility and usability)
STATUS:CONFIRMED
CREATED:20040402T000000Z
LAST-MODIFIED:20221212T103232Z
END:VEVENT
END:VCALENDAR
