BEGIN:VCALENDAR
VERSION:2.0
PRODID:-//Sabre//Sabre VObject 4.5.8//EN
CALSCALE:GREGORIAN
NAME:Accessibilità e usabilità (Accessibility and usability)
X-WR-CALNAME:Accessibilità e usabilità (Accessibility and usability)
BEGIN:VTIMEZONE
TZID:UTC
X-MICROSOFT-CDO-TZID:0
BEGIN:STANDARD
DTSTART:20030322T000000
TZOFFSETFROM:+0000
TZOFFSETTO:+0000
TZNAME:UTC
END:STANDARD
END:VTIMEZONE
BEGIN:VEVENT
UID:dfc50425-bbdf-4259-b5b9-c658b60d10ed
DTSTAMP:20221212T101335Z
SUMMARY:Accessibilità e usabilità (Accessibility and usability)
DTSTART:20040316T000000Z
DTEND:20040316T000000Z
DESCRIPTION:https://www.w3.org/events/talks/2004/accessibilit%C3%A0-e-usabi
 lit%C3%A0-5/\n\nAccessibilità e usabilità (Accessibility and usability)
STATUS:CONFIRMED
CREATED:20040316T000000Z
LAST-MODIFIED:20221212T101335Z
END:VEVENT
END:VCALENDAR
