BEGIN:VCALENDAR
VERSION:2.0
PRODID:-//Sabre//Sabre VObject 4.5.8//EN
CALSCALE:GREGORIAN
NAME:Accessibility is for Everybody
X-WR-CALNAME:Accessibility is for Everybody
BEGIN:VTIMEZONE
TZID:UTC
X-MICROSOFT-CDO-TZID:0
BEGIN:STANDARD
DTSTART:20030319T000000
TZOFFSETFROM:+0000
TZOFFSETTO:+0000
TZNAME:UTC
END:STANDARD
END:VTIMEZONE
BEGIN:VEVENT
UID:ea434552-1b93-45ca-b44d-f62071ec0c6a
DTSTAMP:20221212T101309Z
SUMMARY:Accessibility is for Everybody
DTSTART:20040313T000000Z
DTEND:20040313T000000Z
DESCRIPTION:https://www.w3.org/events/talks/2004/accessibility-is-for-every
 body/\n\nAccessibility is for Everybody
STATUS:CONFIRMED
CREATED:20040313T000000Z
LAST-MODIFIED:20221212T101309Z
END:VEVENT
END:VCALENDAR
