BEGIN:VCALENDAR
VERSION:2.0
PRODID:-//Sabre//Sabre VObject 4.5.8//EN
CALSCALE:GREGORIAN
NAME:Accessibility Of Web Collaboration Technologies
X-WR-CALNAME:Accessibility Of Web Collaboration Technologies
BEGIN:VTIMEZONE
TZID:UTC
X-MICROSOFT-CDO-TZID:0
BEGIN:STANDARD
DTSTART:20030324T000000
TZOFFSETFROM:+0000
TZOFFSETTO:+0000
TZNAME:UTC
END:STANDARD
END:VTIMEZONE
BEGIN:VEVENT
UID:4a085043-28b5-466c-8d58-41559eea5f31
DTSTAMP:20221108T152931Z
SUMMARY:Accessibility Of Web Collaboration Technologies
DTSTART:20040318T000000Z
DTEND:20040318T000000Z
DESCRIPTION:https://www.w3.org/events/talks/2004/accessibility-of-web-colla
 boration-technologies/\n\nAccessibility Of Web Collaboration Technologies
STATUS:CONFIRMED
CREATED:20040318T000000Z
LAST-MODIFIED:20221108T152931Z
END:VEVENT
END:VCALENDAR
