BEGIN:VCALENDAR
VERSION:2.0
PRODID:-//Sabre//Sabre VObject 4.5.8//EN
CALSCALE:GREGORIAN
NAME:An Assessment Of Accessible Alternatives To Visual Verification For We
 b Site Security
X-WR-CALNAME:An Assessment Of Accessible Alternatives To Visual Verificatio
 n For Web Site Security
BEGIN:VTIMEZONE
TZID:UTC
X-MICROSOFT-CDO-TZID:0
BEGIN:STANDARD
DTSTART:20030325T000000
TZOFFSETFROM:+0000
TZOFFSETTO:+0000
TZNAME:UTC
END:STANDARD
END:VTIMEZONE
BEGIN:VEVENT
UID:5f90620d-a167-4dfd-b1c2-6b30e97ef10c
DTSTAMP:20221108T152929Z
SUMMARY:An Assessment Of Accessible Alternatives To Visual Verification For
  Web Site Security
DTSTART:20040319T000000Z
DTEND:20040319T000000Z
DESCRIPTION:https://www.w3.org/events/talks/2004/an-assessment-of-accessibl
 e-alternatives-to-visual-verification-for-web-site-security/\n\nAn Assessm
 ent Of Accessible Alternatives To Visual Verification For Web Site Securit
 y
STATUS:CONFIRMED
CREATED:20040319T000000Z
LAST-MODIFIED:20221108T152929Z
END:VEVENT
END:VCALENDAR
