BEGIN:VCALENDAR
VERSION:2.0
PRODID:-//Sabre//Sabre VObject 4.5.8//EN
CALSCALE:GREGORIAN
NAME:An Introduction to Writing Systems: A review of script characteristics
  affecting computer-based script support and Unicode
X-WR-CALNAME:An Introduction to Writing Systems: A review of script charact
 eristics affecting computer-based script support and Unicode
BEGIN:VTIMEZONE
TZID:UTC
X-MICROSOFT-CDO-TZID:0
BEGIN:STANDARD
DTSTART:20030406T000000
TZOFFSETFROM:+0000
TZOFFSETTO:+0000
TZNAME:UTC
END:STANDARD
END:VTIMEZONE
BEGIN:VEVENT
UID:1c9362e2-ef13-4ea9-ac89-feaa76ab8889
DTSTAMP:20221212T102306Z
SUMMARY:An Introduction to Writing Systems: A review of script characterist
 ics affecting computer-based script support and Unicode
DTSTART:20040331T000000Z
DTEND:20040331T000000Z
DESCRIPTION:https://www.w3.org/events/talks/2004/an-introduction-to-writing
 -systems-a-review-of-script-characteristics-affecting-computer-based-scrip
 t-support-and-unicode-2/\n\nAn Introduction to Writing Systems: A review o
 f script characteristics affecting computer-based script support and Unico
 de
STATUS:CONFIRMED
CREATED:20040331T000000Z
LAST-MODIFIED:20221212T102306Z
END:VEVENT
END:VCALENDAR
