BEGIN:VCALENDAR
VERSION:2.0
PRODID:-//Sabre//Sabre VObject 4.5.8//EN
CALSCALE:GREGORIAN
NAME:Arkitektur för framtiden - katedral eller koloniområde? (Future arch
 itectures - Cathedral or Allotment Area?)
X-WR-CALNAME:Arkitektur för framtiden - katedral eller koloniområde? (Fut
 ure architectures - Cathedral or Allotment Area?)
BEGIN:VTIMEZONE
TZID:UTC
X-MICROSOFT-CDO-TZID:0
BEGIN:STANDARD
DTSTART:20031215T000000
TZOFFSETFROM:+0000
TZOFFSETTO:+0000
TZNAME:UTC
END:STANDARD
END:VTIMEZONE
BEGIN:VEVENT
UID:201a706e-13d4-45c6-a1e6-30b4d8dfab1e
DTSTAMP:20221212T140055Z
SUMMARY:Arkitektur för framtiden - katedral eller koloniområde? (Future a
 rchitectures - Cathedral or Allotment Area?)
DTSTART:20041209T000000Z
DTEND:20041209T000000Z
DESCRIPTION:https://www.w3.org/events/talks/2004/arkitektur-f%C3%B6r-framti
 den-katedral-eller-koloniomr%C3%A5de/\n\nArkitektur för framtiden - kated
 ral eller koloniområde? (Future architectures - Cathedral or Allotment Ar
 ea?)
STATUS:CONFIRMED
CREATED:20041209T000000Z
LAST-MODIFIED:20221212T140055Z
END:VEVENT
END:VCALENDAR
