BEGIN:VCALENDAR
VERSION:2.0
PRODID:-//Sabre//Sabre VObject 4.5.8//EN
CALSCALE:GREGORIAN
NAME:W3C booth
X-WR-CALNAME:W3C booth
BEGIN:VTIMEZONE
TZID:UTC
X-MICROSOFT-CDO-TZID:0
BEGIN:STANDARD
DTSTART:20030324T000000
TZOFFSETFROM:+0000
TZOFFSETTO:+0000
TZNAME:UTC
END:STANDARD
END:VTIMEZONE
BEGIN:VEVENT
UID:82ed9b7e-8f64-4dd0-85e7-0679b3242cf4
DTSTAMP:20221212T101414Z
SUMMARY:W3C booth
DTSTART:20040318T000000Z
DTEND:20040318T000000Z
DESCRIPTION:https://www.w3.org/events/talks/2004/booth-2/\n\nW3C booth
STATUS:CONFIRMED
CREATED:20040318T000000Z
LAST-MODIFIED:20221212T101414Z
END:VEVENT
END:VCALENDAR
