BEGIN:VCALENDAR
VERSION:2.0
PRODID:-//Sabre//Sabre VObject 4.5.8//EN
CALSCALE:GREGORIAN
NAME:W3C booth
X-WR-CALNAME:W3C booth
BEGIN:VTIMEZONE
TZID:UTC
X-MICROSOFT-CDO-TZID:0
BEGIN:STANDARD
DTSTART:20030228T000000
TZOFFSETFROM:+0000
TZOFFSETTO:+0000
TZNAME:UTC
END:STANDARD
END:VTIMEZONE
BEGIN:VEVENT
UID:f30195d6-d79e-4587-9a9e-0a2861452b37
DTSTAMP:20221212T100959Z
SUMMARY:W3C booth
DTSTART:20040223T000000Z
DTEND:20040226T000000Z
DESCRIPTION:https://www.w3.org/events/talks/2004/booth-3/\n\nW3C booth
STATUS:CONFIRMED
CREATED:20040223T000000Z
LAST-MODIFIED:20221212T100959Z
END:VEVENT
END:VCALENDAR
