BEGIN:VCALENDAR
VERSION:2.0
PRODID:-//Sabre//Sabre VObject 4.5.8//EN
CALSCALE:GREGORIAN
NAME:Comparison of Unicode Programming Models in Programming Languages
X-WR-CALNAME:Comparison of Unicode Programming Models in Programming Langua
 ges
BEGIN:VTIMEZONE
TZID:UTC
X-MICROSOFT-CDO-TZID:0
BEGIN:STANDARD
DTSTART:20030407T000000
TZOFFSETFROM:+0000
TZOFFSETTO:+0000
TZNAME:UTC
END:STANDARD
END:VTIMEZONE
BEGIN:VEVENT
UID:e8fc33cb-9050-4521-8ed9-f1f5dc9baefe
DTSTAMP:20221108T153037Z
SUMMARY:Comparison of Unicode Programming Models in Programming Languages
DTSTART:20040401T000000Z
DTEND:20040401T000000Z
DESCRIPTION:https://www.w3.org/events/talks/2004/comparison-of-unicode-prog
 ramming-models-in-programming-languages/\n\nComparison of Unicode Programm
 ing Models in Programming Languages
STATUS:CONFIRMED
CREATED:20040401T000000Z
LAST-MODIFIED:20221108T153037Z
END:VEVENT
END:VCALENDAR
