BEGIN:VCALENDAR
VERSION:2.0
PRODID:-//Sabre//Sabre VObject 4.5.8//EN
CALSCALE:GREGORIAN
NAME:Dalle Literary Machines al Semantic Web (From Literary Machines to Sem
 antic Web)
X-WR-CALNAME:Dalle Literary Machines al Semantic Web (From Literary Machine
 s to Semantic Web)
BEGIN:VTIMEZONE
TZID:UTC
X-MICROSOFT-CDO-TZID:0
BEGIN:STANDARD
DTSTART:20030325T000000
TZOFFSETFROM:+0000
TZOFFSETTO:+0000
TZNAME:UTC
END:STANDARD
END:VTIMEZONE
BEGIN:VEVENT
UID:fa86e6c0-4e44-4365-a7e6-1b482a8df79d
DTSTAMP:20221212T101540Z
SUMMARY:Dalle Literary Machines al Semantic Web (From Literary Machines to 
 Semantic Web)
DTSTART:20040319T000000Z
DTEND:20040319T000000Z
DESCRIPTION:https://www.w3.org/events/talks/2004/dalle-literary-machines-al
 -semantic-web/\n\nDalle Literary Machines al Semantic Web (From Literary M
 achines to Semantic Web)
STATUS:CONFIRMED
CREATED:20040319T000000Z
LAST-MODIFIED:20221212T101540Z
END:VEVENT
END:VCALENDAR
