BEGIN:VCALENDAR
VERSION:2.0
PRODID:-//Sabre//Sabre VObject 4.5.8//EN
CALSCALE:GREGORIAN
NAME:Deploying Trust Policies on the Semantic Web
X-WR-CALNAME:Deploying Trust Policies on the Semantic Web
BEGIN:VTIMEZONE
TZID:UTC
X-MICROSOFT-CDO-TZID:0
BEGIN:STANDARD
DTSTART:20030407T000000
TZOFFSETFROM:+0000
TZOFFSETTO:+0000
TZNAME:UTC
END:STANDARD
END:VTIMEZONE
BEGIN:VEVENT
UID:763de580-a4f8-49f8-8e2e-7dee42c1b50e
DTSTAMP:20221108T153014Z
SUMMARY:Deploying Trust Policies on the Semantic Web
DTSTART:20040401T000000Z
DTEND:20040401T000000Z
DESCRIPTION:https://www.w3.org/events/talks/2004/deploying-trust-policies-o
 n-the-semantic-web/\n\nDeploying Trust Policies on the Semantic Web
STATUS:CONFIRMED
CREATED:20040401T000000Z
LAST-MODIFIED:20221108T153014Z
END:VEVENT
END:VCALENDAR
