BEGIN:VCALENDAR
VERSION:2.0
PRODID:-//Sabre//Sabre VObject 4.5.8//EN
CALSCALE:GREGORIAN
NAME:Die Zukunft des Web in 6 Punkten (The Future ofthe Web in 6 Points)
X-WR-CALNAME:Die Zukunft des Web in 6 Punkten (The Future ofthe Web in 6 Po
 ints)
BEGIN:VTIMEZONE
TZID:UTC
X-MICROSOFT-CDO-TZID:0
BEGIN:STANDARD
DTSTART:20030127T000000
TZOFFSETFROM:+0000
TZOFFSETTO:+0000
TZNAME:UTC
END:STANDARD
END:VTIMEZONE
BEGIN:VEVENT
UID:17edd5fc-ac8c-4f13-a097-0f1a83eb4352
DTSTAMP:20221212T100824Z
SUMMARY:Die Zukunft des Web in 6 Punkten (The Future ofthe Web in 6 Points)
DTSTART:20040122T000000Z
DTEND:20040122T000000Z
DESCRIPTION:https://www.w3.org/events/talks/2004/die-zukunft-des-web-in-6-p
 unkten/\n\nDie Zukunft des Web in 6 Punkten (The Future ofthe Web in 6 Poi
 nts)
STATUS:CONFIRMED
CREATED:20040122T000000Z
LAST-MODIFIED:20221212T100824Z
END:VEVENT
END:VCALENDAR
