BEGIN:VCALENDAR
VERSION:2.0
PRODID:-//Sabre//Sabre VObject 4.5.8//EN
CALSCALE:GREGORIAN
NAME:Federated Metasearch Strategies and Issues: Searching\, Finding\, and 
 Archiving Data of the World from Disparate Public Systems
X-WR-CALNAME:Federated Metasearch Strategies and Issues: Searching\, Findin
 g\, and Archiving Data of the World from Disparate Public Systems
BEGIN:VTIMEZONE
TZID:UTC
X-MICROSOFT-CDO-TZID:0
BEGIN:STANDARD
DTSTART:20030407T000000
TZOFFSETFROM:+0000
TZOFFSETTO:+0000
TZNAME:UTC
END:STANDARD
END:VTIMEZONE
BEGIN:VEVENT
UID:7abb5696-089f-4322-bfc6-1a0ba9e95bab
DTSTAMP:20221108T153009Z
SUMMARY:Federated Metasearch Strategies and Issues: Searching\, Finding\, a
 nd Archiving Data of the World from Disparate Public Systems
DTSTART:20040401T000000Z
DTEND:20040401T000000Z
DESCRIPTION:https://www.w3.org/events/talks/2004/federated-metasearch-strat
 egies-and-issues-searching-finding-and-archiving-data-of-the-world-from-di
 sparate-public-systems-2/\n\nFederated Metasearch Strategies and Issues: S
 earching\, Finding\, and Archiving Data of the World from Disparate Public
  Systems
STATUS:CONFIRMED
CREATED:20040401T000000Z
LAST-MODIFIED:20221108T153009Z
END:VEVENT
END:VCALENDAR
