BEGIN:VCALENDAR
VERSION:2.0
PRODID:-//Sabre//Sabre VObject 4.5.8//EN
CALSCALE:GREGORIAN
NAME:Handling Unicode in Legacy Applications
X-WR-CALNAME:Handling Unicode in Legacy Applications
BEGIN:VTIMEZONE
TZID:UTC
X-MICROSOFT-CDO-TZID:0
BEGIN:STANDARD
DTSTART:20030407T000000
TZOFFSETFROM:+0000
TZOFFSETTO:+0000
TZNAME:UTC
END:STANDARD
END:VTIMEZONE
BEGIN:VEVENT
UID:71ea743e-2ae8-43f5-8fb3-dcc50f74793a
DTSTAMP:20221108T152949Z
SUMMARY:Handling Unicode in Legacy Applications
DTSTART:20040401T000000Z
DTEND:20040401T000000Z
DESCRIPTION:https://www.w3.org/events/talks/2004/handling-unicode-in-legacy
 -applications/\n\nHandling Unicode in Legacy Applications
STATUS:CONFIRMED
CREATED:20040401T000000Z
LAST-MODIFIED:20221108T152949Z
END:VEVENT
END:VCALENDAR
