BEGIN:VCALENDAR
VERSION:2.0
PRODID:-//Sabre//Sabre VObject 4.5.8//EN
CALSCALE:GREGORIAN
NAME:ICU Overview: The Open-Source Unicode Library\, v2.8
X-WR-CALNAME:ICU Overview: The Open-Source Unicode Library\, v2.8
BEGIN:VTIMEZONE
TZID:UTC
X-MICROSOFT-CDO-TZID:0
BEGIN:STANDARD
DTSTART:20030407T000000
TZOFFSETFROM:+0000
TZOFFSETTO:+0000
TZNAME:UTC
END:STANDARD
END:VTIMEZONE
BEGIN:VEVENT
UID:55c7d7aa-9627-4089-afa3-3ef8dd8a7065
DTSTAMP:20221108T152942Z
SUMMARY:ICU Overview: The Open-Source Unicode Library\, v2.8
DTSTART:20040401T000000Z
DTEND:20040401T000000Z
DESCRIPTION:https://www.w3.org/events/talks/2004/icu-overview-the-open-sour
 ce-unicode-library-v2-8/\n\nICU Overview: The Open-Source Unicode Library\
 , v2.8
STATUS:CONFIRMED
CREATED:20040401T000000Z
LAST-MODIFIED:20221108T152942Z
END:VEVENT
END:VCALENDAR
