BEGIN:VCALENDAR
VERSION:2.0
PRODID:-//Sabre//Sabre VObject 4.5.8//EN
CALSCALE:GREGORIAN
NAME:Internationalized Software Testing
X-WR-CALNAME:Internationalized Software Testing
BEGIN:VTIMEZONE
TZID:UTC
X-MICROSOFT-CDO-TZID:0
BEGIN:STANDARD
DTSTART:20030406T000000
TZOFFSETFROM:+0000
TZOFFSETTO:+0000
TZNAME:UTC
END:STANDARD
END:VTIMEZONE
BEGIN:VEVENT
UID:0ff6feea-a6b9-49aa-afbc-2cb7bc09f746
DTSTAMP:20221212T102525Z
SUMMARY:Internationalized Software Testing
DTSTART:20040331T000000Z
DTEND:20040331T000000Z
DESCRIPTION:https://www.w3.org/events/talks/2004/internationalized-software
 -testing/\n\nInternationalized Software Testing
STATUS:CONFIRMED
CREATED:20040331T000000Z
LAST-MODIFIED:20221212T102525Z
END:VEVENT
END:VCALENDAR
