BEGIN:VCALENDAR
VERSION:2.0
PRODID:-//Sabre//Sabre VObject 4.5.8//EN
CALSCALE:GREGORIAN
NAME:Interrogare collezioni di documenti XML: una interfaccia utente (Query
 ing XML document collections: a user interface)
X-WR-CALNAME:Interrogare collezioni di documenti XML: una interfaccia utent
 e (Querying XML document collections: a user interface)
BEGIN:VTIMEZONE
TZID:UTC
X-MICROSOFT-CDO-TZID:0
BEGIN:STANDARD
DTSTART:20030331T000000
TZOFFSETFROM:+0000
TZOFFSETTO:+0000
TZNAME:UTC
END:STANDARD
END:VTIMEZONE
BEGIN:VEVENT
UID:84a27968-4d19-4830-a107-d2a8b3464923
DTSTAMP:20221212T101854Z
SUMMARY:Interrogare collezioni di documenti XML: una interfaccia utente (Qu
 erying XML document collections: a user interface)
DTSTART:20040325T000000Z
DTEND:20040325T000000Z
DESCRIPTION:https://www.w3.org/events/talks/2004/interrogare-collezioni-di-
 documenti-xml-una-interfaccia-utente/\n\nInterrogare collezioni di documen
 ti XML: una interfaccia utente (Querying XML document collections: a user 
 interface)
STATUS:CONFIRMED
CREATED:20040325T000000Z
LAST-MODIFIED:20221212T101854Z
END:VEVENT
END:VCALENDAR
