BEGIN:VCALENDAR
VERSION:2.0
PRODID:-//Sabre//Sabre VObject 4.5.8//EN
CALSCALE:GREGORIAN
NAME:Introduction to Distributed Systems and Unicode
X-WR-CALNAME:Introduction to Distributed Systems and Unicode
BEGIN:VTIMEZONE
TZID:UTC
X-MICROSOFT-CDO-TZID:0
BEGIN:STANDARD
DTSTART:20030406T000000
TZOFFSETFROM:+0000
TZOFFSETTO:+0000
TZNAME:UTC
END:STANDARD
END:VTIMEZONE
BEGIN:VEVENT
UID:020a9e4c-7eba-4690-b411-8f60ace23812
DTSTAMP:20221212T102348Z
SUMMARY:Introduction to Distributed Systems and Unicode
DTSTART:20040331T000000Z
DTEND:20040331T000000Z
DESCRIPTION:https://www.w3.org/events/talks/2004/introduction-to-distribute
 d-systems-and-unicode/\n\nIntroduction to Distributed Systems and Unicode
STATUS:CONFIRMED
CREATED:20040331T000000Z
LAST-MODIFIED:20221212T102348Z
END:VEVENT
END:VCALENDAR
