BEGIN:VCALENDAR
VERSION:2.0
PRODID:-//Sabre//Sabre VObject 4.5.8//EN
CALSCALE:GREGORIAN
NAME:Language Tags and Locale Identifiers
X-WR-CALNAME:Language Tags and Locale Identifiers
BEGIN:VTIMEZONE
TZID:UTC
X-MICROSOFT-CDO-TZID:0
BEGIN:STANDARD
DTSTART:20030407T000000
TZOFFSETFROM:+0000
TZOFFSETTO:+0000
TZNAME:UTC
END:STANDARD
END:VTIMEZONE
BEGIN:VEVENT
UID:bf72a371-799f-45c5-a5f3-8f078798f874
DTSTAMP:20221212T102940Z
SUMMARY:Language Tags and Locale Identifiers
DTSTART:20040401T000000Z
DTEND:20040401T000000Z
DESCRIPTION:https://www.w3.org/events/talks/2004/language-tags-and-locale-i
 dentifiers/\n\nLanguage Tags and Locale Identifiers
STATUS:CONFIRMED
CREATED:20040401T000000Z
LAST-MODIFIED:20221212T102940Z
END:VEVENT
END:VCALENDAR
