BEGIN:VCALENDAR
VERSION:2.0
PRODID:-//Sabre//Sabre VObject 4.5.8//EN
CALSCALE:GREGORIAN
NAME:Layers of Responsibility: Perspectives on Internet Governance
X-WR-CALNAME:Layers of Responsibility: Perspectives on Internet Governance
BEGIN:VTIMEZONE
TZID:UTC
X-MICROSOFT-CDO-TZID:0
BEGIN:STANDARD
DTSTART:20030303T000000
TZOFFSETFROM:+0000
TZOFFSETTO:+0000
TZNAME:UTC
END:STANDARD
END:VTIMEZONE
BEGIN:VEVENT
UID:71324fc5-5cd9-4696-8648-6091e94d9d07
DTSTAMP:20221108T153026Z
SUMMARY:Layers of Responsibility: Perspectives on Internet Governance
DTSTART:20040226T000000Z
DTEND:20040226T000000Z
DESCRIPTION:https://www.w3.org/events/talks/2004/layers-of-responsibility-p
 erspectives-on-internet-governance/\n\nLayers of Responsibility: Perspecti
 ves on Internet Governance
STATUS:CONFIRMED
CREATED:20040226T000000Z
LAST-MODIFIED:20221108T153026Z
END:VEVENT
END:VCALENDAR
