BEGIN:VCALENDAR
VERSION:2.0
PRODID:-//Sabre//Sabre VObject 4.5.8//EN
CALSCALE:GREGORIAN
NAME:Machine Enforceable Policies (panel)
X-WR-CALNAME:Machine Enforceable Policies (panel)
BEGIN:VTIMEZONE
TZID:UTC
X-MICROSOFT-CDO-TZID:0
BEGIN:STANDARD
DTSTART:20030223T000000
TZOFFSETFROM:+0000
TZOFFSETTO:+0000
TZNAME:UTC
END:STANDARD
END:VTIMEZONE
BEGIN:VEVENT
UID:ed7c090a-1ffa-487c-a341-f53b196a670f
DTSTAMP:20221212T100922Z
SUMMARY:Machine Enforceable Policies (panel)
DTSTART:20040218T000000Z
DTEND:20040218T000000Z
DESCRIPTION:https://www.w3.org/events/talks/2004/machine-enforceable-polici
 es/\n\nMachine Enforceable Policies (panel)
STATUS:CONFIRMED
CREATED:20040218T000000Z
LAST-MODIFIED:20221212T100922Z
END:VEVENT
END:VCALENDAR
