BEGIN:VCALENDAR
VERSION:2.0
PRODID:-//Sabre//Sabre VObject 4.5.8//EN
CALSCALE:GREGORIAN
NAME:Nessun escluso (Nobody is excluded)
X-WR-CALNAME:Nessun escluso (Nobody is excluded)
BEGIN:VTIMEZONE
TZID:UTC
X-MICROSOFT-CDO-TZID:0
BEGIN:STANDARD
DTSTART:20030412T000000
TZOFFSETFROM:+0000
TZOFFSETTO:+0000
TZNAME:UTC
END:STANDARD
END:VTIMEZONE
BEGIN:VEVENT
UID:03395930-80f9-46cc-98ef-dc0c7538e7e6
DTSTAMP:20221212T103416Z
SUMMARY:Nessun escluso (Nobody is excluded)
DTSTART:20040406T000000Z
DTEND:20040406T000000Z
DESCRIPTION:https://www.w3.org/events/talks/2004/nessun-escluso/\n\nNessun 
 escluso (Nobody is excluded)
STATUS:CONFIRMED
CREATED:20040406T000000Z
LAST-MODIFIED:20221212T103416Z
END:VEVENT
END:VCALENDAR
