BEGIN:VCALENDAR
VERSION:2.0
PRODID:-//Sabre//Sabre VObject 4.5.8//EN
CALSCALE:GREGORIAN
NAME:On the Design of Notations
X-WR-CALNAME:On the Design of Notations
BEGIN:VTIMEZONE
TZID:UTC
X-MICROSOFT-CDO-TZID:0
BEGIN:STANDARD
DTSTART:20030425T000000
TZOFFSETFROM:+0000
TZOFFSETTO:+0000
TZNAME:UTC
END:STANDARD
END:VTIMEZONE
BEGIN:VEVENT
UID:20a5f1ad-db14-4304-8560-c24fff95e4bd
DTSTAMP:20221108T152936Z
SUMMARY:On the Design of Notations
DTSTART:20040419T000000Z
DTEND:20040419T000000Z
DESCRIPTION:https://www.w3.org/events/talks/2004/on-the-design-of-notations
 /\n\nOn the Design of Notations
STATUS:CONFIRMED
CREATED:20040419T000000Z
LAST-MODIFIED:20221108T152936Z
END:VEVENT
END:VCALENDAR
