BEGIN:VCALENDAR
VERSION:2.0
PRODID:-//Sabre//Sabre VObject 4.5.8//EN
CALSCALE:GREGORIAN
NAME:Planning Your Internationalization Project
X-WR-CALNAME:Planning Your Internationalization Project
BEGIN:VTIMEZONE
TZID:UTC
X-MICROSOFT-CDO-TZID:0
BEGIN:STANDARD
DTSTART:20030406T000000
TZOFFSETFROM:+0000
TZOFFSETTO:+0000
TZNAME:UTC
END:STANDARD
END:VTIMEZONE
BEGIN:VEVENT
UID:57688336-4861-4514-97aa-5fa62200a685
DTSTAMP:20221108T152926Z
SUMMARY:Planning Your Internationalization Project
DTSTART:20040331T000000Z
DTEND:20040331T000000Z
DESCRIPTION:https://www.w3.org/events/talks/2004/planning-your-internationa
 lization-project/\n\nPlanning Your Internationalization Project
STATUS:CONFIRMED
CREATED:20040331T000000Z
LAST-MODIFIED:20221108T152926Z
END:VEVENT
END:VCALENDAR
