BEGIN:VCALENDAR
VERSION:2.0
PRODID:-//Sabre//Sabre VObject 4.5.8//EN
CALSCALE:GREGORIAN
NAME:Semanttinen Web ja Web-teknologiat (Semantic Web and Web Technologies)
X-WR-CALNAME:Semanttinen Web ja Web-teknologiat (Semantic Web and Web Techn
 ologies)
BEGIN:VTIMEZONE
TZID:UTC
X-MICROSOFT-CDO-TZID:0
BEGIN:STANDARD
DTSTART:20030317T000000
TZOFFSETFROM:+0000
TZOFFSETTO:+0000
TZNAME:UTC
END:STANDARD
END:VTIMEZONE
BEGIN:VEVENT
UID:809cca04-4e19-41ea-b08b-a930f8a68d3c
DTSTAMP:20221212T101235Z
SUMMARY:Semanttinen Web ja Web-teknologiat (Semantic Web and Web Technologi
 es)
DTSTART:20040311T000000Z
DTEND:20040311T000000Z
DESCRIPTION:https://www.w3.org/events/talks/2004/semanttinen-web-ja-web-tek
 nologiat/\n\nSemanttinen Web ja Web-teknologiat (Semantic Web and Web Tech
 nologies)
STATUS:CONFIRMED
CREATED:20040311T000000Z
LAST-MODIFIED:20221212T101235Z
END:VEVENT
END:VCALENDAR
