BEGIN:VCALENDAR
VERSION:2.0
PRODID:-//Sabre//Sabre VObject 4.5.8//EN
CALSCALE:GREGORIAN
NAME:Standardisation des Services Web : Où En Sommes-Nous ?  (Standardazia
 tion of Web Services: Where Are We?)
X-WR-CALNAME:Standardisation des Services Web : Où En Sommes-Nous ?  (Stan
 dardaziation of Web Services: Where Are We?)
BEGIN:VTIMEZONE
TZID:UTC
X-MICROSOFT-CDO-TZID:0
BEGIN:STANDARD
DTSTART:20030324T000000
TZOFFSETFROM:+0000
TZOFFSETTO:+0000
TZNAME:UTC
END:STANDARD
END:VTIMEZONE
BEGIN:VEVENT
UID:e4a33554-1706-4b08-b5be-a810578004c3
DTSTAMP:20221212T101456Z
SUMMARY:Standardisation des Services Web : Où En Sommes-Nous ?  (Standarda
 ziation of Web Services: Where Are We?)
DTSTART:20040318T000000Z
DTEND:20040318T000000Z
DESCRIPTION:https://www.w3.org/events/talks/2004/standardisation-des-servic
 es-web-o%C3%B9-en-sommes-nous/\n\nStandardisation des Services Web : Où E
 n Sommes-Nous ?  (Standardaziation of Web Services: Where Are We?)
STATUS:CONFIRMED
CREATED:20040318T000000Z
LAST-MODIFIED:20221212T101456Z
END:VEVENT
END:VCALENDAR
