BEGIN:VCALENDAR
VERSION:2.0
PRODID:-//Sabre//Sabre VObject 4.5.8//EN
CALSCALE:GREGORIAN
NAME:Standardization Activities in the World Wide Web Consortium
X-WR-CALNAME:Standardization Activities in the World Wide Web Consortium
BEGIN:VTIMEZONE
TZID:UTC
X-MICROSOFT-CDO-TZID:0
BEGIN:STANDARD
DTSTART:20030315T000000
TZOFFSETFROM:+0000
TZOFFSETTO:+0000
TZNAME:UTC
END:STANDARD
END:VTIMEZONE
BEGIN:VEVENT
UID:037a32ec-39ae-48d9-8dae-422b7f287008
DTSTAMP:20221108T153029Z
SUMMARY:Standardization Activities in the World Wide Web Consortium
DTSTART:20040309T000000Z
DTEND:20040309T000000Z
DESCRIPTION:https://www.w3.org/events/talks/2004/standardization-activities
 -in-the-world-wide-web-consortium/\n\nStandardization Activities in the Wo
 rld Wide Web Consortium
STATUS:CONFIRMED
CREATED:20040309T000000Z
LAST-MODIFIED:20221108T153029Z
END:VEVENT
END:VCALENDAR
