BEGIN:VCALENDAR
VERSION:2.0
PRODID:-//Sabre//Sabre VObject 4.5.8//EN
CALSCALE:GREGORIAN
NAME:Standards für die Zukunft des Web (Standards for the Future of the We
 b)
X-WR-CALNAME:Standards für die Zukunft des Web (Standards for the Future o
 f the Web)
BEGIN:VTIMEZONE
TZID:UTC
X-MICROSOFT-CDO-TZID:0
BEGIN:STANDARD
DTSTART:20030330T000000
TZOFFSETFROM:+0000
TZOFFSETTO:+0000
TZNAME:UTC
END:STANDARD
END:VTIMEZONE
BEGIN:VEVENT
UID:cdcf820f-2da8-4c27-8320-473267dcf2d3
DTSTAMP:20221212T101649Z
SUMMARY:Standards für die Zukunft des Web (Standards for the Future of the
  Web)
DTSTART:20040324T000000Z
DTEND:20040324T000000Z
DESCRIPTION:https://www.w3.org/events/talks/2004/standards-f%C3%BCr-die-zuk
 unft-des-web/\n\nStandards für die Zukunft des Web (Standards for the Fut
 ure of the Web)
STATUS:CONFIRMED
CREATED:20040324T000000Z
LAST-MODIFIED:20221212T101649Z
END:VEVENT
END:VCALENDAR
