BEGIN:VCALENDAR
VERSION:2.0
PRODID:-//Sabre//Sabre VObject 4.5.8//EN
CALSCALE:GREGORIAN
NAME:The Common Locale Data Repository
X-WR-CALNAME:The Common Locale Data Repository
BEGIN:VTIMEZONE
TZID:UTC
X-MICROSOFT-CDO-TZID:0
BEGIN:STANDARD
DTSTART:20030407T000000
TZOFFSETFROM:+0000
TZOFFSETTO:+0000
TZNAME:UTC
END:STANDARD
END:VTIMEZONE
BEGIN:VEVENT
UID:8163d23b-6cc8-4511-9a92-0d21dfe41775
DTSTAMP:20221212T103030Z
SUMMARY:The Common Locale Data Repository
DTSTART:20040401T000000Z
DTEND:20040401T000000Z
DESCRIPTION:https://www.w3.org/events/talks/2004/the-common-locale-data-rep
 ository/\n\nThe Common Locale Data Repository
STATUS:CONFIRMED
CREATED:20040401T000000Z
LAST-MODIFIED:20221212T103030Z
END:VEVENT
END:VCALENDAR
