BEGIN:VCALENDAR
VERSION:2.0
PRODID:-//Sabre//Sabre VObject 4.5.8//EN
CALSCALE:GREGORIAN
NAME:The Internet and the World Wide Web: Past\, Present and Future
X-WR-CALNAME:The Internet and the World Wide Web: Past\, Present and Future
BEGIN:VTIMEZONE
TZID:UTC
X-MICROSOFT-CDO-TZID:0
BEGIN:STANDARD
DTSTART:20031225T000000
TZOFFSETFROM:+0000
TZOFFSETTO:+0000
TZNAME:UTC
END:STANDARD
END:VTIMEZONE
BEGIN:VEVENT
UID:01beb881-aade-47f2-8a0f-48ce76fb0508
DTSTAMP:20221108T152930Z
SUMMARY:The Internet and the World Wide Web: Past\, Present and Future
DTSTART:20041219T000000Z
DTEND:20041219T000000Z
DESCRIPTION:https://www.w3.org/events/talks/2004/the-internet-and-the-world
 -wide-web-past-present-and-future/\n\nThe Internet and the World Wide Web:
  Past\, Present and Future
STATUS:CONFIRMED
CREATED:20041219T000000Z
LAST-MODIFIED:20221108T152930Z
END:VEVENT
END:VCALENDAR
