BEGIN:VCALENDAR
VERSION:2.0
PRODID:-//Sabre//Sabre VObject 4.5.8//EN
CALSCALE:GREGORIAN
NAME:Trusted Computing
X-WR-CALNAME:Trusted Computing
BEGIN:VTIMEZONE
TZID:UTC
X-MICROSOFT-CDO-TZID:0
BEGIN:STANDARD
DTSTART:20030428T000000
TZOFFSETFROM:+0000
TZOFFSETTO:+0000
TZNAME:UTC
END:STANDARD
END:VTIMEZONE
BEGIN:VEVENT
UID:9f4efb1c-7d57-4a28-b423-4dac06cfead6
DTSTAMP:20221108T153035Z
SUMMARY:Trusted Computing
DTSTART:20040422T000000Z
DTEND:20040422T000000Z
DESCRIPTION:https://www.w3.org/events/talks/2004/trusted-computing/\n\nTrus
 ted Computing
STATUS:CONFIRMED
CREATED:20040422T000000Z
LAST-MODIFIED:20221108T153035Z
END:VEVENT
END:VCALENDAR
