BEGIN:VCALENDAR
VERSION:2.0
PRODID:-//Sabre//Sabre VObject 4.5.8//EN
CALSCALE:GREGORIAN
NAME:Tutorial on Semantic Web Technologies
X-WR-CALNAME:Tutorial on Semantic Web Technologies
BEGIN:VTIMEZONE
TZID:UTC
X-MICROSOFT-CDO-TZID:0
BEGIN:STANDARD
DTSTART:20031108T000000
TZOFFSETFROM:+0000
TZOFFSETTO:+0000
TZNAME:UTC
END:STANDARD
END:VTIMEZONE
BEGIN:VEVENT
UID:d0061552-df40-4d89-8e7f-cf89dc993d36
DTSTAMP:20221108T153006Z
SUMMARY:Tutorial on Semantic Web Technologies
DTSTART:20041102T000000Z
DTEND:20041102T000000Z
DESCRIPTION:https://www.w3.org/events/talks/2004/tutorial-on-semantic-web-t
 echnologies-2/\n\nTutorial on Semantic Web Technologies
STATUS:CONFIRMED
CREATED:20041102T000000Z
LAST-MODIFIED:20221108T153006Z
END:VEVENT
END:VCALENDAR
