BEGIN:VCALENDAR
VERSION:2.0
PRODID:-//Sabre//Sabre VObject 4.5.8//EN
CALSCALE:GREGORIAN
NAME:Using Jujitsu to Globalize Web Applications
X-WR-CALNAME:Using Jujitsu to Globalize Web Applications
BEGIN:VTIMEZONE
TZID:UTC
X-MICROSOFT-CDO-TZID:0
BEGIN:STANDARD
DTSTART:20030408T000000
TZOFFSETFROM:+0000
TZOFFSETTO:+0000
TZNAME:UTC
END:STANDARD
END:VTIMEZONE
BEGIN:VEVENT
UID:a70343ee-c77d-46e7-ba4a-81d5aad3a40d
DTSTAMP:20221212T103147Z
SUMMARY:Using Jujitsu to Globalize Web Applications
DTSTART:20040402T000000Z
DTEND:20040402T000000Z
DESCRIPTION:https://www.w3.org/events/talks/2004/using-jujitsu-to-globalize
 -web-applications/\n\nUsing Jujitsu to Globalize Web Applications
STATUS:CONFIRMED
CREATED:20040402T000000Z
LAST-MODIFIED:20221212T103147Z
END:VEVENT
END:VCALENDAR
