BEGIN:VCALENDAR
VERSION:2.0
PRODID:-//Sabre//Sabre VObject 4.5.8//EN
CALSCALE:GREGORIAN
NAME:W3C and Web-teknologiat (W3C and Web technologies)
X-WR-CALNAME:W3C and Web-teknologiat (W3C and Web technologies)
BEGIN:VTIMEZONE
TZID:UTC
X-MICROSOFT-CDO-TZID:0
BEGIN:STANDARD
DTSTART:20030331T000000
TZOFFSETFROM:+0000
TZOFFSETTO:+0000
TZNAME:UTC
END:STANDARD
END:VTIMEZONE
BEGIN:VEVENT
UID:f62f6306-791a-4ab7-b069-b32b8ac3bf2b
DTSTAMP:20221212T101830Z
SUMMARY:W3C and Web-teknologiat (W3C and Web technologies)
DTSTART:20040325T000000Z
DTEND:20040325T000000Z
DESCRIPTION:https://www.w3.org/events/talks/2004/w3c-and-web-teknologiat/\n
 \nW3C and Web-teknologiat (W3C and Web technologies)
STATUS:CONFIRMED
CREATED:20040325T000000Z
LAST-MODIFIED:20221212T101830Z
END:VEVENT
END:VCALENDAR
