BEGIN:VCALENDAR
VERSION:2.0
PRODID:-//Sabre//Sabre VObject 4.5.8//EN
CALSCALE:GREGORIAN
NAME:W3C ja Web-teknologiat (W3C and Web Technologies)
X-WR-CALNAME:W3C ja Web-teknologiat (W3C and Web Technologies)
BEGIN:VTIMEZONE
TZID:UTC
X-MICROSOFT-CDO-TZID:0
BEGIN:STANDARD
DTSTART:20030406T000000
TZOFFSETFROM:+0000
TZOFFSETTO:+0000
TZNAME:UTC
END:STANDARD
END:VTIMEZONE
BEGIN:VEVENT
UID:e5595002-2c8c-4b16-84bd-57b993b54953
DTSTAMP:20221212T102123Z
SUMMARY:W3C ja Web-teknologiat (W3C and Web Technologies)
DTSTART:20040331T000000Z
DTEND:20040331T000000Z
DESCRIPTION:https://www.w3.org/events/talks/2004/w3c-ja-web-teknologiat/\n\
 nW3C ja Web-teknologiat (W3C and Web Technologies)
STATUS:CONFIRMED
CREATED:20040331T000000Z
LAST-MODIFIED:20221212T102123Z
END:VEVENT
END:VCALENDAR
