BEGIN:VCALENDAR
VERSION:2.0
PRODID:-//Sabre//Sabre VObject 4.5.8//EN
CALSCALE:GREGORIAN
NAME:W3C Semantic Web Technologies in real life
X-WR-CALNAME:W3C Semantic Web Technologies in real life
BEGIN:VTIMEZONE
TZID:UTC
X-MICROSOFT-CDO-TZID:0
BEGIN:STANDARD
DTSTART:20031117T000000
TZOFFSETFROM:+0000
TZOFFSETTO:+0000
TZNAME:UTC
END:STANDARD
END:VTIMEZONE
BEGIN:VEVENT
UID:2dbee764-3902-41ba-9c75-e758f8e9c9d1
DTSTAMP:20221108T153013Z
SUMMARY:W3C Semantic Web Technologies in real life
DTSTART:20041111T000000Z
DTEND:20041111T000000Z
DESCRIPTION:https://www.w3.org/events/talks/2004/w3c-semantic-web-technolog
 ies-in-real-life/\n\nW3C Semantic Web Technologies in real life
STATUS:CONFIRMED
CREATED:20041111T000000Z
LAST-MODIFIED:20221108T153013Z
END:VEVENT
END:VCALENDAR
