BEGIN:VCALENDAR
VERSION:2.0
PRODID:-//Sabre//Sabre VObject 4.5.8//EN
CALSCALE:GREGORIAN
NAME:W3C Technologies as a Key for Interoperability
X-WR-CALNAME:W3C Technologies as a Key for Interoperability
BEGIN:VTIMEZONE
TZID:UTC
X-MICROSOFT-CDO-TZID:0
BEGIN:STANDARD
DTSTART:20030407T000000
TZOFFSETFROM:+0000
TZOFFSETTO:+0000
TZNAME:UTC
END:STANDARD
END:VTIMEZONE
BEGIN:VEVENT
UID:8b79ce2e-2dfb-4d3b-b961-b8d05a845419
DTSTAMP:20221212T102705Z
SUMMARY:W3C Technologies as a Key for Interoperability
DTSTART:20040401T000000Z
DTEND:20040401T000000Z
DESCRIPTION:https://www.w3.org/events/talks/2004/w3c-technologies-as-a-key-
 for-interoperability/\n\nW3C Technologies as a Key for Interoperability
STATUS:CONFIRMED
CREATED:20040401T000000Z
LAST-MODIFIED:20221212T102705Z
END:VEVENT
END:VCALENDAR
