BEGIN:VCALENDAR
VERSION:2.0
PRODID:-//Sabre//Sabre VObject 4.5.8//EN
CALSCALE:GREGORIAN
NAME:W3C & verkkojulkaisun standardit (W3C and Standards of Web Publishing)
X-WR-CALNAME:W3C & verkkojulkaisun standardit (W3C and Standards of Web Pub
 lishing)
BEGIN:VTIMEZONE
TZID:UTC
X-MICROSOFT-CDO-TZID:0
BEGIN:STANDARD
DTSTART:20030331T000000
TZOFFSETFROM:+0000
TZOFFSETTO:+0000
TZNAME:UTC
END:STANDARD
END:VTIMEZONE
BEGIN:VEVENT
UID:4e6fb530-0fdc-4447-8fb5-876002b2298e
DTSTAMP:20221212T101942Z
SUMMARY:W3C & verkkojulkaisun standardit (W3C and Standards of Web Publishi
 ng)
DTSTART:20040325T000000Z
DTEND:20040325T000000Z
DESCRIPTION:https://www.w3.org/events/talks/2004/w3c-verkkojulkaisun-standa
 rdit/\n\nW3C & verkkojulkaisun standardit (W3C and Standards of Web Publis
 hing)
STATUS:CONFIRMED
CREATED:20040325T000000Z
LAST-MODIFIED:20221212T101942Z
END:VEVENT
END:VCALENDAR
