BEGIN:VCALENDAR
VERSION:2.0
PRODID:-//Sabre//Sabre VObject 4.5.8//EN
CALSCALE:GREGORIAN
NAME:W3C Voice Browser Working Group's activities
X-WR-CALNAME:W3C Voice Browser Working Group's activities
BEGIN:VTIMEZONE
TZID:UTC
X-MICROSOFT-CDO-TZID:0
BEGIN:STANDARD
DTSTART:20030330T000000
TZOFFSETFROM:+0000
TZOFFSETTO:+0000
TZNAME:UTC
END:STANDARD
END:VTIMEZONE
BEGIN:VEVENT
UID:e02060f0-d98a-4db6-96be-53bd19c1275f
DTSTAMP:20221212T142611Z
SUMMARY:W3C Voice Browser Working Group's activities
DTSTART:20040324T000000Z
DTEND:20040324T000000Z
DESCRIPTION:https://www.w3.org/events/talks/2004/w3c-voice-browser-working-
 group-s-activities/\n\nW3C Voice Browser Working Group's activities
STATUS:CONFIRMED
CREATED:20040324T000000Z
LAST-MODIFIED:20221212T142611Z
END:VEVENT
END:VCALENDAR
