BEGIN:VCALENDAR
VERSION:2.0
PRODID:-//Sabre//Sabre VObject 4.5.8//EN
CALSCALE:GREGORIAN
NAME:W5: The Five W's of the World Wide Web
X-WR-CALNAME:W5: The Five W's of the World Wide Web
BEGIN:VTIMEZONE
TZID:UTC
X-MICROSOFT-CDO-TZID:0
BEGIN:STANDARD
DTSTART:20030407T000000
TZOFFSETFROM:+0000
TZOFFSETTO:+0000
TZNAME:UTC
END:STANDARD
END:VTIMEZONE
BEGIN:VEVENT
UID:9149ae46-8273-45eb-95a3-dba2cdaff4fb
DTSTAMP:20221108T152947Z
SUMMARY:W5: The Five W's of the World Wide Web
DTSTART:20040401T000000Z
DTEND:20040401T000000Z
DESCRIPTION:https://www.w3.org/events/talks/2004/w5-the-five-ws-of-the-worl
 d-wide-web/\n\nW5: The Five W's of the World Wide Web
STATUS:CONFIRMED
CREATED:20040401T000000Z
LAST-MODIFIED:20221108T152947Z
END:VEVENT
END:VCALENDAR
